BEGIN:VCALENDAR
VERSION:2.0
PRODID:-//Satsangam - ECPv6.7.0//NONSGML v1.0//EN
CALSCALE:GREGORIAN
METHOD:PUBLISH
X-WR-CALNAME:Satsangam
X-ORIGINAL-URL:https://satsangam.net
X-WR-CALDESC:Events for Satsangam
REFRESH-INTERVAL;VALUE=DURATION:PT1H
X-Robots-Tag:noindex
X-PUBLISHED-TTL:PT1H
BEGIN:VTIMEZONE
TZID:UTC
BEGIN:STANDARD
TZOFFSETFROM:+0000
TZOFFSETTO:+0000
TZNAME:UTC
DTSTART:20230101T000000
END:STANDARD
TZID:America/Halifax
BEGIN:DAYLIGHT
TZOFFSETFROM:-0400
TZOFFSETTO:-0300
TZNAME:ADT
DTSTART:20230312T060000
END:DAYLIGHT
BEGIN:STANDARD
TZOFFSETFROM:-0300
TZOFFSETTO:-0400
TZNAME:AST
DTSTART:20231105T050000
END:STANDARD
TZID:America/Denver
BEGIN:DAYLIGHT
TZOFFSETFROM:-0700
TZOFFSETTO:-0600
TZNAME:MDT
DTSTART:20230312T090000
END:DAYLIGHT
BEGIN:STANDARD
TZOFFSETFROM:-0600
TZOFFSETTO:-0700
TZNAME:MST
DTSTART:20231105T080000
END:STANDARD
END:VTIMEZONE
BEGIN:VEVENT
DTSTART;VALUE=DATE:20240503
DTEND;VALUE=DATE:20240507
DTSTAMP:20260423T161248
CREATED:20240114T161313Z
LAST-MODIFIED:20240219T150731Z
UID:5106-1714694400-1715039999@satsangam.net
SUMMARY:Kathā Cikitsā: The Healing Power of Storytelling
DESCRIPTION:Join Satsangam’s team\, including Drs. Robert Svoboda\, Fred Smith Ramkumar\, Claudia Welch\, Scott Blossom\, Kimberly Kubicke and the rest of the satsangam team and friends\, in Taos\, New Mexico to delve into the therapeutic dimensions of storytelling. The retreat is designed for those who cherish stories\, as well as for anyone seeking to understand how to construct or choose stories that act as the right medicine in varied situations. \nThroughout this engaging healing retreat\, participants will explore how various principles of Ayurveda apply to storytelling\, and how to identify the therapeutic potential of narratives. We will explore how to discern whether a story is stabilizing (bṛṃhaṇa) or activating (laṅghana); how it can be tailored to pacify vāta\, pitta\, or kapha imbalances; how it relates to sattva\, rajas and tamas and other traditional concepts\, like the five vāyus. Participants will leave with an enhanced ability to determine the healing properties of stories\, recognize those suitable for specific individuals\, and enrich their therapeutic toolbox with new\, meaningful stories. This is an invitation to immerse in the profound legacy of the Indian tradition of storytelling (Kathā Paramparā) and discover the potent blend of storytelling and Ayurveda as a tool for healing and connection. \nClick here for more details.
URL:https://satsangam.net/event/katha-cikitsa-the-healing-power-of-storytelling/
LOCATION:Satsangam
ATTACH;FMTTYPE=image/webp:https://satsangam.net/wp-content/uploads/2023/12/Satsangam-New-Mexico-2024-01.webp
END:VEVENT
BEGIN:VEVENT
DTSTART;TZID=America/Halifax:20230725T120000
DTEND;TZID=America/Halifax:20230725T120000
DTSTAMP:20260423T161248
CREATED:20230713T054226Z
LAST-MODIFIED:20230713T054519Z
UID:4634-1690286400-1690286400@satsangam.net
SUMMARY:EAY Information Session July 25
DESCRIPTION:
URL:https://satsangam.net/event/eay-information-session-230725__trashed/
END:VEVENT
BEGIN:VEVENT
DTSTART;TZID=America/Denver:20230613T190000
DTEND;TZID=America/Denver:20230613T200000
DTSTAMP:20260423T161248
CREATED:20230523T212307Z
LAST-MODIFIED:20230523T213734Z
UID:4412-1686682800-1686686400@satsangam.net
SUMMARY:EAY Information Session June 13
DESCRIPTION:
URL:https://satsangam.net/event/eay-information-session-230613__trashed/
END:VEVENT
BEGIN:VEVENT
DTSTART;TZID=UTC:20230511T123000
DTEND;TZID=UTC:20230511T133000
DTSTAMP:20260423T161248
CREATED:20230502T135410Z
LAST-MODIFIED:20230502T144248Z
UID:4379-1683808200-1683811800@satsangam.net
SUMMARY:Yogic Threads: Relevance of Yoga & Ayurveda in Healing Trauma with Scott Blossom\, Arun & Anjali Deva
DESCRIPTION:This lively discussion will create a foundational framework for how these traditional healing practices can be woven together with the modern understanding of trauma to help us gain resilience in our lives. \nJoin us as we explore the following questions:\nHow can Yoga and Ayurveda contribute to healing trauma?\nWhat is the historical lineage of healing trauma in these traditions?\nWhy do Yoga and Ayurveda relate to each other?\nHow do you understand the process of healing with Yoga and Ayurveda?
URL:https://satsangam.net/event/yogic-threads-relevance-of-yoga-ayurveda-in-healing-trauma-with-scott-blossom-arun-anjali-deva__trashed/
ATTACH;FMTTYPE=image/webp:https://satsangam.net/wp-content/uploads/2023/05/Yogaic-Threads.webp
END:VEVENT
END:VCALENDAR