BEGIN:VCALENDAR
VERSION:2.0
PRODID:-//Satsangam - ECPv6.7.0//NONSGML v1.0//EN
CALSCALE:GREGORIAN
METHOD:PUBLISH
X-ORIGINAL-URL:https://satsangam.net
X-WR-CALDESC:Events for Satsangam
REFRESH-INTERVAL;VALUE=DURATION:PT1H
X-Robots-Tag:noindex
X-PUBLISHED-TTL:PT1H
BEGIN:VTIMEZONE
TZID:UTC
BEGIN:STANDARD
TZOFFSETFROM:+0000
TZOFFSETTO:+0000
TZNAME:UTC
DTSTART:20240101T000000
END:STANDARD
END:VTIMEZONE
BEGIN:VEVENT
DTSTART;VALUE=DATE:20240502
DTEND;VALUE=DATE:20240517
DTSTAMP:20260423T112102
CREATED:20240219T133906Z
LAST-MODIFIED:20240219T133906Z
UID:5180-1714608000-1715903999@satsangam.net
SUMMARY:Saṅkalpa: the Role of Intent in Medicine and Life
DESCRIPTION:These two 1.5 hour live\, online sessions (May 2 & 16) are part of Satsangam’s Vedic Threads’ ongoing membership-based course with Drs. Ramkumar & Welch. Schedule details available on your class page after registration.\n\nThese May sessions are dedicated to the concept of saṅkalpa.\n\nSaṅkalpa translates as\, “intention” or\, “determination”. Ayurveda physician Dr. Vignesh Devraj ji plans to join the Vedic Threads community for the first May session to explore the role of saṅkalpa in medicine—from the patient’s experience as well as the doctor’s. This can relate to the way a practitioner and the patient approaches the doctor/patient relationship; the roles of medicine\, the doctor\, the patient\, hope\, compliance; what is whose responsibility\, and to the outcome itself. Some of these insights are likely to apply to life in general as well as to medicine.\n\nWe welcome you to join us in heartfelt conversation on these themes\, in our twice-monthly Vedic Threads membership-based course. For 35 USD/month or 365 USD/ year you have access to two live 1.5-hour sessions/month with Drs. Ramkumar\, Welch\, world-class guest instructors\, dedicated participants from all over the world\, and more than 45 hours of content from previous sessions.
URL:https://satsangam.net/event/sa%e1%b9%85kalpa-the-role-of-intent-in-medicine-and-life/
LOCATION:Satsangam
ATTACH;FMTTYPE=image/webp:https://satsangam.net/wp-content/uploads/2024/02/DrVigneshDevraj-e1708349891297.webp
END:VEVENT
BEGIN:VEVENT
DTSTART;VALUE=DATE:20240503
DTEND;VALUE=DATE:20240507
DTSTAMP:20260423T112102
CREATED:20240114T161313Z
LAST-MODIFIED:20240219T150731Z
UID:5106-1714694400-1715039999@satsangam.net
SUMMARY:Kathā Cikitsā: The Healing Power of Storytelling
DESCRIPTION:Join Satsangam’s team\, including Drs. Robert Svoboda\, Fred Smith Ramkumar\, Claudia Welch\, Scott Blossom\, Kimberly Kubicke and the rest of the satsangam team and friends\, in Taos\, New Mexico to delve into the therapeutic dimensions of storytelling. The retreat is designed for those who cherish stories\, as well as for anyone seeking to understand how to construct or choose stories that act as the right medicine in varied situations. \nThroughout this engaging healing retreat\, participants will explore how various principles of Ayurveda apply to storytelling\, and how to identify the therapeutic potential of narratives. We will explore how to discern whether a story is stabilizing (bṛṃhaṇa) or activating (laṅghana); how it can be tailored to pacify vāta\, pitta\, or kapha imbalances; how it relates to sattva\, rajas and tamas and other traditional concepts\, like the five vāyus. Participants will leave with an enhanced ability to determine the healing properties of stories\, recognize those suitable for specific individuals\, and enrich their therapeutic toolbox with new\, meaningful stories. This is an invitation to immerse in the profound legacy of the Indian tradition of storytelling (Kathā Paramparā) and discover the potent blend of storytelling and Ayurveda as a tool for healing and connection. \nClick here for more details.
URL:https://satsangam.net/event/katha-cikitsa-the-healing-power-of-storytelling/
LOCATION:Satsangam
ATTACH;FMTTYPE=image/webp:https://satsangam.net/wp-content/uploads/2023/12/Satsangam-New-Mexico-2024-01.webp
END:VEVENT
END:VCALENDAR