BEGIN:VCALENDAR
VERSION:2.0
PRODID:-//Satsangam - ECPv6.7.0//NONSGML v1.0//EN
CALSCALE:GREGORIAN
METHOD:PUBLISH
X-WR-CALNAME:Satsangam
X-ORIGINAL-URL:https://satsangam.net
X-WR-CALDESC:Events for Satsangam
REFRESH-INTERVAL;VALUE=DURATION:PT1H
X-Robots-Tag:noindex
X-PUBLISHED-TTL:PT1H
BEGIN:VTIMEZONE
TZID:UTC
BEGIN:STANDARD
TZOFFSETFROM:+0000
TZOFFSETTO:+0000
TZNAME:UTC
DTSTART:20250101T000000
END:STANDARD
END:VTIMEZONE
BEGIN:VEVENT
DTSTART;VALUE=DATE:20250102
DTEND;VALUE=DATE:20250103
DTSTAMP:20260422T184614
CREATED:20241009T112421Z
LAST-MODIFIED:20241009T134934Z
UID:5432-1735776000-1735862399@satsangam.net
SUMMARY:Understanding Trauma Through Saṃskāra\, Vāsanā\, and Prajñāparādha
DESCRIPTION:Thursday\, 10:00am ET (New York Time) / 8:30 pm IST\nWorld Time Buddy can help you figure out your time zone \nIn this session\, Anjali Deva will explore trauma through the lens of Indian knowledge systems\, offering a profound understanding of how past impressions (saṃskāra)\, latent tendencies (vāsanā)\, and mistakes of the intellect (prajñāparādha) shape our emotional and mental experiences. By delving into these Sanskrit concepts\, Anjali will guide participants in recognizing how trauma manifests and how it can be addressed holistically within the framework of Indian wisdom traditions. \nWe welcome you to join us in heartfelt conversation on the context in which Indian wisdom traditions exist in Vedic Threads. For 35 USD/month you have access to two live 1.5-hour sessions/month with Drs. Ramkumar\, Welch\, world-class guest instructors\, dedicated participants from all over the world\, and more than 70 hours of content from previous sessions. Schedule details available on your class page after registration.
URL:https://satsangam.net/event/understanding-trauma-through-sa%e1%b9%83skara-vasana-and-prajnaparadha/
END:VEVENT
END:VCALENDAR